BEGIN:VCALENDAR
VERSION:2.0
PRODID:-//Northland Potato Growers Association - ECPv6.15.11//NONSGML v1.0//EN
CALSCALE:GREGORIAN
METHOD:PUBLISH
X-WR-CALNAME:Northland Potato Growers Association
X-ORIGINAL-URL:https://www.northlandpotatoes.com
X-WR-CALDESC:Events for Northland Potato Growers Association
REFRESH-INTERVAL;VALUE=DURATION:PT1H
X-Robots-Tag:noindex
X-PUBLISHED-TTL:PT1H
BEGIN:VTIMEZONE
TZID:America/Chicago
BEGIN:DAYLIGHT
TZOFFSETFROM:-0600
TZOFFSETTO:-0500
TZNAME:CDT
DTSTART:20250309T080000
END:DAYLIGHT
BEGIN:STANDARD
TZOFFSETFROM:-0500
TZOFFSETTO:-0600
TZNAME:CST
DTSTART:20251102T070000
END:STANDARD
BEGIN:DAYLIGHT
TZOFFSETFROM:-0600
TZOFFSETTO:-0500
TZNAME:CDT
DTSTART:20260308T080000
END:DAYLIGHT
BEGIN:STANDARD
TZOFFSETFROM:-0500
TZOFFSETTO:-0600
TZNAME:CST
DTSTART:20261101T070000
END:STANDARD
BEGIN:DAYLIGHT
TZOFFSETFROM:-0600
TZOFFSETTO:-0500
TZNAME:CDT
DTSTART:20270314T080000
END:DAYLIGHT
BEGIN:STANDARD
TZOFFSETFROM:-0500
TZOFFSETTO:-0600
TZNAME:CST
DTSTART:20271107T070000
END:STANDARD
END:VTIMEZONE
BEGIN:VEVENT
DTSTART;VALUE=DATE:20260701
DTEND;VALUE=DATE:20260801
DTSTAMP:20260424T071133
CREATED:20250916T162811Z
LAST-MODIFIED:20250916T162811Z
UID:1508-1782864000-1785542399@www.northlandpotatoes.com
SUMMARY:PMANA Summer Meeting - TBD
DESCRIPTION:
URL:https://www.northlandpotatoes.com/event/pmana-summer-meeting-tbd/
END:VEVENT
BEGIN:VEVENT
DTSTART;VALUE=DATE:20260711
DTEND;VALUE=DATE:20260712
DTSTAMP:20260424T071133
CREATED:20250916T162602Z
LAST-MODIFIED:20250916T162602Z
UID:1506-1783728000-1783814399@www.northlandpotatoes.com
SUMMARY:National French Fry Day
DESCRIPTION:
URL:https://www.northlandpotatoes.com/event/national-french-fry-day/
END:VEVENT
BEGIN:VEVENT
DTSTART;VALUE=DATE:20260713
DTEND;VALUE=DATE:20260717
DTSTAMP:20260424T071133
CREATED:20250916T162517Z
LAST-MODIFIED:20250916T162517Z
UID:1504-1783900800-1784246399@www.northlandpotatoes.com
SUMMARY:NPC Leadership in the Field - Gettysburg\, PA
DESCRIPTION:
URL:https://www.northlandpotatoes.com/event/npc-leadership-in-the-field-gettysburg-pa/
END:VEVENT
BEGIN:VEVENT
DTSTART;VALUE=DATE:20260716
DTEND;VALUE=DATE:20260717
DTSTAMP:20260424T071133
CREATED:20250916T172214Z
LAST-MODIFIED:20250916T172214Z
UID:1510-1784160000-1784246399@www.northlandpotatoes.com
SUMMARY:NPGA Annual Golf Open - Grafton\, ND
DESCRIPTION:
URL:https://www.northlandpotatoes.com/event/npga-annual-golf-open-grafton-nd/
END:VEVENT
BEGIN:VEVENT
DTSTART;VALUE=DATE:20260721
DTEND;VALUE=DATE:20260724
DTSTAMP:20260424T071133
CREATED:20250916T172459Z
LAST-MODIFIED:20250916T172459Z
UID:1512-1784592000-1784851199@www.northlandpotatoes.com
SUMMARY:NPC Summer Meeting - Detroit\, MI
DESCRIPTION:
URL:https://www.northlandpotatoes.com/event/npc-summer-meeting-detroit-mi/
END:VEVENT
BEGIN:VEVENT
DTSTART;VALUE=DATE:20260806
DTEND;VALUE=DATE:20260809
DTSTAMP:20260424T071133
CREATED:20250916T172721Z
LAST-MODIFIED:20250916T172721Z
UID:1514-1785974400-1786233599@www.northlandpotatoes.com
SUMMARY:Potatoes USA Summer Meeting - Vancouver\, BC
DESCRIPTION:
URL:https://www.northlandpotatoes.com/event/potatoes-usa-summer-meeting-vancouver-bc/
END:VEVENT
BEGIN:VEVENT
DTSTART;VALUE=DATE:20260819
DTEND;VALUE=DATE:20260820
DTSTAMP:20260424T071133
CREATED:20250916T172752Z
LAST-MODIFIED:20250916T172752Z
UID:1516-1787097600-1787183999@www.northlandpotatoes.com
SUMMARY:National Potato Day
DESCRIPTION:
URL:https://www.northlandpotatoes.com/event/national-potato-day/
END:VEVENT
BEGIN:VEVENT
DTSTART;VALUE=DATE:20260820
DTEND;VALUE=DATE:20260821
DTSTAMP:20260424T071133
CREATED:20250916T172844Z
LAST-MODIFIED:20250916T172844Z
UID:1518-1787184000-1787270399@www.northlandpotatoes.com
SUMMARY:NPGA Field Day - Larimore\, Inkster\, Hoople\, ND
DESCRIPTION:
URL:https://www.northlandpotatoes.com/event/npga-field-day-larimore-inkster-hoople-nd/
END:VEVENT
BEGIN:VEVENT
DTSTART;VALUE=DATE:20260821
DTEND;VALUE=DATE:20260823
DTSTAMP:20260424T071133
CREATED:20250916T173016Z
LAST-MODIFIED:20250916T173016Z
UID:1520-1787270400-1787443199@www.northlandpotatoes.com
SUMMARY:Barnseville Potato Days - Barnseville\, MN
DESCRIPTION:
URL:https://www.northlandpotatoes.com/event/barnseville-potato-days-barnseville-mn/
END:VEVENT
BEGIN:VEVENT
DTSTART;VALUE=DATE:20260831
DTEND;VALUE=DATE:20260906
DTSTAMP:20260424T071133
CREATED:20250916T173138Z
LAST-MODIFIED:20250916T173138Z
UID:1522-1788134400-1788652799@www.northlandpotatoes.com
SUMMARY:Potato Bowl USA - Grand Forks\, ND
DESCRIPTION:
URL:https://www.northlandpotatoes.com/event/potato-bowl-usa-grand-forks-nd/
END:VEVENT
BEGIN:VEVENT
DTSTART;VALUE=DATE:20261015
DTEND;VALUE=DATE:20261018
DTSTAMP:20260424T071133
CREATED:20250916T173256Z
LAST-MODIFIED:20250916T173256Z
UID:1524-1792022400-1792281599@www.northlandpotatoes.com
SUMMARY:Global Floral and Produce Show - Orlando\, FL
DESCRIPTION:
URL:https://www.northlandpotatoes.com/event/global-floral-and-produce-show-orlando-fl/
END:VEVENT
END:VCALENDAR